View In:
  ArcGIS JavaScript
  ArcGIS Online Map Viewer
  ArcGIS Earth
  ArcMap
  ArcGIS Pro
View Footprint In:
  ArcGIS Online Map Viewer
Service Description:  
Map Name:  Layers
Legend
All Layers and Tables
Dynamic Legend
Dynamic All Layers
Layers: 
Description:  
Service Item Id:  599dc7ed67cc415fa37da7b9e2124688
Copyright Text:   
Spatial Reference: 
102100
 (3857)
Single Fused Map Cache:  true
Tile Info: 
- Height: 256
- Width: 256
- DPI: 96
- 
Levels of Detail:  24
- 
Level ID: 0
[ Start Tile, End Tile ]
- Resolution: 156543.03392800014
- Scale: 5.91657527591555E8
- 
Level ID: 1
[ Start Tile, End Tile ]
- Resolution: 78271.51696399994
- Scale: 2.95828763795777E8
- 
Level ID: 2
[ Start Tile, End Tile ]
- Resolution: 39135.75848200009
- Scale: 1.47914381897889E8
- 
Level ID: 3
[ Start Tile, End Tile ]
- Resolution: 19567.87924099992
- Scale: 7.3957190948944E7
- 
Level ID: 4
[ Start Tile, End Tile ]
- Resolution: 9783.93962049996
- Scale: 3.6978595474472E7
- 
Level ID: 5
[ Start Tile, End Tile ]
- Resolution: 4891.96981024998
- Scale: 1.8489297737236E7
- Format: MIXED
- Compression Quality: 75.0
- Origin: X:  -2.0037508342787E7
 Y:  2.0037508342787E7
 
- Spatial Reference: 102100
 (3857)
 
Storage Info:
- Storage Format: esriMapCacheStorageModeCompactV2
- Packet Size: 128
Initial Extent:
XMin: -1.2947071369426265E7
YMin: 3983146.9739677776
XMax: -1.293923198073998E7
YMax: 3986173.530415276
Spatial Reference: 102100
 (3857)
Full Extent:
XMin: -1.2945414769867836E7
YMin: 3981855.5780166094
XMax: -1.2942658923168479E7
YMax: 3985480.8998077395
Spatial Reference: 102100
 (3857)
Units: esriMeters
Supported Image Format Types:  PNG32,PNG24,PNG,JPG,DIB,TIFF,EMF,PS,PDF,GIF,SVG,SVGZ,BMP
Document Info: 
Title: zoning
Author: 
Comments: 
Subject: 
Category: 
Keywords: 
AntialiasingMode: None
TextAntialiasingMode: Force
Supports Dynamic Layers: true
MaxRecordCount:  100
MaxImageHeight:  4096
MaxImageWidth:  4096
Supported Query Formats:  JSON, geoJSON, PBF
Supports Query Data Elements:  true
Min Scale:  36111.909643
Max Scale:  564.248588
Min LOD:  14
Max LOD:  20
Supports Datum Transformation:  true
Child Resources:
  
Info
  Dynamic Layer
 
Supported Operations:
  
Export Map
  Identify
  QueryLegends
  QueryDomains
  Find
  Return Updates
  Generate KML